BEGIN:VCALENDAR
VERSION:2.0
PRODID:GlueUp
CALSCALE:GREGORIAN
BEGIN:VTIMEZONE
TZID:UTC
BEGIN:STANDARD
DTSTART:19700101T000000
TZOFFSETFROM:+0000
TZOFFSETTO:+0000
TZNAME:UTC
END:STANDARD
END:VTIMEZONE
BEGIN:VEVENT
TZ:+00
ORGANIZER;CN=CFA Society Shanghai:MAILTO:info@shanghai.cfasociety.org
UID:44411-1776847450@https://cfasocietyshanghai.glueup.cn
DTSTAMP:20260422T084410Z
DTSTART:20240717T110000Z
DTEND:20240717T123000Z
SUMMARY:专业学习讲座 | 探索红利收益率指数策略
DESCRIPTION:CFA Society Shanghai发布活动专业学习讲座 | 探索红利收益率指数策略\n\n2024年07月17日（19:00 - 20:30）(GMT+8)\n\n更多信息，访问https://cfasocietyshanghai.glueup.cn/my/events/44411
LOCATION:中欧陆家嘴国际金融研究院一楼演讲厅 - 中国上海市上海浦东滨江大道2525弄15号B栋
BEGIN:VALARM
TRIGGER:-PT48H
REPEAT:4
DURATION:PT30M
ACTION:DISPLAY
END:VALARM
END:VEVENT
END:VCALENDAR